BEGIN:VCALENDAR
VERSION:2.0
PRODID:-//eventon.com NONSGML v1.0//EN
CALSCALE:GREGORIAN
METHOD:PUBLISH
BEGIN:VEVENT
UID:69ebaf2bd4ffa
DTSTAMP:20260424T175803Z
DTSTART:20260424T150000Z
DTEND:20260424T150000Z
LOCATION:Rendezvényhelyszín Ráday u 25-27 Budapest\,  Ráday utca 25-27.
SUMMARY:Meszolongi - 200
DESCRIPTION:2026. április 25. 10:00. Meszolongi &#8211; 200 A Magyarorszá
 gi Görög Intézet és a Wesley János Lelkészképző Főiskola szervezé
 sében emlékezünk meg\,  előadásokkal\,  élő görög zenével filmmel
 \,  az európai történelem egyik legszimbólikusabb szabadságküzdelmér
 ől a Ráday u 25-27-ben\nhttps://wesley.hu/esemeny/meszolongi-200/
URL:https://wesley.hu/esemeny/meszolongi-200/
END:VEVENT
END:VCALENDAR