BEGIN:VCALENDAR
VERSION:2.0
PRODID:-//eventon.com NONSGML v1.0//EN
CALSCALE:GREGORIAN
METHOD:PUBLISH
BEGIN:VEVENT
UID:69e5fb2f8d332
DTSTAMP:20260420T100847Z
DTSTART:20260422T180000Z
DTEND:20260422T203000Z
LOCATION:Online Online
SUMMARY:A Föld napja
DESCRIPTION:Webinárium a WJLF Környezetbiztonsági Tanszék szervezéséb
 en 2026. április 22. szerda 18:00-20:30 Az eseményt a Galileo Webcast kö
 zvetíti www.galileowebcast.hu www.youtube.com/@galileowebcast_gw Program M
 egnyitó és moderálás Bukovics István Megporzás vizsgálatok a fokozot
 tan védett Epipactis bugacensis orchideán Nagy János Véletlen a mikrovi
 lágban\,  azaz miért nem tudunk semmit kiszámolni (pedig olyan okosak va
 gyunk) Kun István[..]\nhttps://wesley.hu/esemeny/a-fold-napja/
URL:https://wesley.hu/esemeny/a-fold-napja/
END:VEVENT
END:VCALENDAR