BEGIN:VCALENDAR
VERSION:2.0
PRODID:-//eventon.com NONSGML v1.0//EN
CALSCALE:GREGORIAN
METHOD:PUBLISH
BEGIN:VEVENT
UID:69e8ec23ed594
DTSTAMP:20260422T154123Z
DTSTART:20260420T170000Z
DTEND:20260420T235900Z
LOCATION:Online Online
SUMMARY:Széchenyi Ágnes: A népi-urbánus vitáról
DESCRIPTION:Wesley előadások sorozat (szerk Nagy Péter Tibor) 2026 ápri
 lis 20 17 h. Helyszín: az online tér https://meet.google.com/kir-hatm-ma
 q A programon ingyenesen és regisztráció nélkül lehet részt venni. A 
 résztvevők beleegyezésüket adják\,  hogy  képernyőrögzítéssel fe
 lvétel készül\,  s az vágatlanul a netre kerül. A felvétel a https:
 //archive.org/details/Conferences_SHS_2020s oldal felől pár héten belü
 l hozzáférhető lesz. Széchenyi Ágnesről: https://m2.mtmt.hu/gui2/?ty
 pe=authors&amp;mode=browse&amp;sel=authors10001273  [..]\nhttps://wesley.h
 u/esemeny/szechenyi-agnes-a-nepi-urbanus-vitarol/
URL:https://wesley.hu/esemeny/szechenyi-agnes-a-nepi-urbanus-vitarol/
END:VEVENT
END:VCALENDAR