BEGIN:VCALENDAR
VERSION:2.0
PRODID:-//eventon.com NONSGML v1.0//EN
CALSCALE:GREGORIAN
METHOD:PUBLISH
BEGIN:VEVENT
UID:69e700fa7d2f1
DTSTAMP:20260421T044546Z
DTSTART:20260428T170000Z
DTEND:20260428T235900Z
LOCATION:Online Online
SUMMARY:Csaba László: Magyarország a világrendetlenségben
DESCRIPTION:Wesley előadások sorozat (szerk Nagy Péter Tibor) 2026. ápr
 ilis 28. 17 h. Helyszín: az online tér https://meet.google.com/kir-hatm-
 maq A programon ingyenesen és regisztráció nélkül lehet részt venni. 
 A résztvevők beleegyezésüket adják\,  hogy  képernyőrögzítéssel 
 felvétel készül\,  s az vágatlanul a netre kerül. A felvétel a http
 s://archive.org/details/Conferences_SHS_2020s oldal felől pár héten bel
 ül hozzáférhető lesz. Csaba: https://m2.mtmt.hu/gui2/?type=authors&amp
 ;mode=browse&amp;sel=authors10000437\nhttps://wesley.hu/esemeny/csaba-laszl
 o-magyarorszag-a-vilagrendetlensegben/
URL:https://wesley.hu/esemeny/csaba-laszlo-magyarorszag-a-vilagrendetlensegben/
END:VEVENT
END:VCALENDAR