BEGIN:VCALENDAR
VERSION:2.0
PRODID:-//eventon.com NONSGML v1.0//EN
CALSCALE:GREGORIAN
METHOD:PUBLISH
BEGIN:VEVENT
UID:69e74ba30b651
DTSTAMP:20260421T100419Z
DTSTART:20260316T163000Z
DTEND:20260316T235900Z
LOCATION:Online Online
SUMMARY:A komÃ¡romi Ã©s kÃ¶rnyÃ©kbeli zsidÃ³sÃ¡g jogfosztÃ¡sa
DESCRIPTION:A Wesley kÃ¶nyvvitasorozata (szerk Nagy PÃ©ter Tibor) keretÃ©be
 n tÅ±zzÃ¼k napirendre aÂ NemzethÅ±sÃ©g Ã©s Å‘rsÃ©gvÃ¡ltÃ¡s : a komÃ¡romi Ã©
 s kÃ¶rnyÃ©kbeli zsidÃ³sÃ¡g jogfosztÃ¡sa : 1938-1944 /cop.2023 cÃ­mÅ± Bajcsi
  IldikÃ³ kÃ¶nyvet IdÅ‘pont: 2026 mÃ¡rcius 16 16.30 HelyszÃ­n az online tÃ©r
 :Â https://meet.google.com/kir-hatm-maq Program Â Nagy PÃ©ter Tibor: Megnyi
 tÃ³ Bajcsi IldikÃ³: NemzethÅ±sÃ©g Ã©s Å‘rsÃ©gvÃ¡ltÃ¡s Simon Attila: VÃ©lemÃ
 ©ny a[..]\nhttps://wesley.hu/esemeny/a-komaromi-es-kornyekbeli-zsidosag-jog
 fosztasa/
URL:https://wesley.hu/esemeny/a-komaromi-es-kornyekbeli-zsidosag-jogfosztasa/
END:VEVENT
END:VCALENDAR