BEGIN:VCALENDAR
VERSION:2.0
PRODID:-//eventon.com NONSGML v1.0//EN
CALSCALE:GREGORIAN
METHOD:PUBLISH
BEGIN:VEVENT
UID:69e493686699e
DTSTAMP:20260419T083344Z
DTSTART:20241103T160000Z
DTEND:20241103T225900Z
LOCATION:Online Online
SUMMARY:Egy 1847-es lelkészválasztási per társadalomtörténeti szemszögből
DESCRIPTION:Van a Wesley Egyház- és Vallásszociológiai Kutatóintézetn
 ek https://wesley.hu/szervezeti-egysegek/tudomanyos-intezetek/wesley-egyha
 z-es-vallasszociologiai-kutatointezet/ 15 éve egy könyvvitasorozata amel
 yben egyház és vallásszociológiai\,  társadalomtörténeti\,  egyálta
 lán modern társadalomtudományilag értelmezhető egyházi vallási tárg
 yú könyvek vitattatnak meg. Napirendre tűztük: Bozó Szűcs Diána Az 
 aszódi skandalum: Egy lelkészválasztási per társadalomtörténeti szem
 szögből 1847-1862 Budapest\,   : Gondolat Kiadó (2023) \,  290 p c
  könyvet Program A rendezvény online:  https://meet.google.com/ghm-xxna
 -gci Program: 17 h.[..]\nhttps://wesley.hu/esemeny/egy-1847-es-lelkeszvalas
 ztasi-per-tarsadalomtorteneti-szemszogbol/
URL:https://wesley.hu/esemeny/egy-1847-es-lelkeszvalasztasi-per-tarsadalomtorteneti-szemszogbol/
END:VEVENT
END:VCALENDAR