BEGIN:VCALENDAR
VERSION:2.0
PRODID:-//eventon.com NONSGML v1.0//EN
CALSCALE:GREGORIAN
METHOD:PUBLISH
BEGIN:VEVENT
UID:69e7f19abeb9d
DTSTAMP:20260421T215226Z
DTSTART:20211016T120000Z
DTEND:20211016T215000Z
LOCATION:Online Online
SUMMARY:Palettaelőadás
DESCRIPTION:Murányi István: Miért nem érdemes ifjúságszociológiát t
 árgyalni/kutatni/művelni http://oktatas.uni.hu/20211016.htm 2021 október
  16 szo 14 h Palettaelőadás: Murányi István: Miért nem érdemes ifjús
 ágszociológiát tárgyalni/kutatni/művelni ; A fogalomértelmezés /mult
 idiszciplinaritás/episztemiológiai problémái;  Hazai (külhoni) vélt 
 vagy valósnak minősített  ifjúságkutatások http://oktatas.uni.hu/202
 11016.htm\nhttps://wesley.hu/esemeny/palettaeloadas-9/
URL:https://wesley.hu/esemeny/palettaeloadas-9/
END:VEVENT
END:VCALENDAR