BEGIN:VCALENDAR
VERSION:2.0
PRODID:-//eventon.com NONSGML v1.0//EN
CALSCALE:GREGORIAN
METHOD:PUBLISH
BEGIN:VEVENT
UID:69e78976391b9
DTSTAMP:20260421T142806Z
DTSTART:20210911T070000Z
DTEND:20210911T215000Z
LOCATION:Online Online
SUMMARY:Palettaelőadás
DESCRIPTION:http://oktatas.uni.hu/20210911.htm Orosz Éva: Vázlat a magyar
  egészségügy válságos évtizedeiről 2021 szept 11 szo 9 h Palettaelő
 adás: Orosz Éva: Vázlat a magyar egészségügy válságos évtizedeirő
 l http://oktatas.uni.hu/20210911.htm\nhttps://wesley.hu/esemeny/palettaeloa
 das-3/
URL:https://wesley.hu/esemeny/palettaeloadas-3/
END:VEVENT
END:VCALENDAR