BEGIN:VCALENDAR
VERSION:2.0
PRODID:-//eventon.com NONSGML v1.0//EN
CALSCALE:GREGORIAN
METHOD:PUBLISH
BEGIN:VEVENT
UID:69eb3f98ddb86
DTSTAMP:20260424T100200Z
DTSTART:20201220T080000Z
DTEND:20201220T225000Z
LOCATION:Online Online
SUMMARY:Az 1941. évi deportálás
DESCRIPTION:http://oktatas.uni.hu/20201220.htm\nhttps://wesley.hu/esemeny/a
 z-1941-evi-deportalas/
URL:https://wesley.hu/esemeny/az-1941-evi-deportalas/
END:VEVENT
END:VCALENDAR