BEGIN:VCALENDAR
VERSION:2.0
PRODID:-//eventon.com NONSGML v1.0//EN
CALSCALE:GREGORIAN
METHOD:PUBLISH
BEGIN:VEVENT
UID:69e5ec3cb5ba5
DTSTAMP:20260420T090500Z
DTSTART:20201213T080000Z
DTEND:20201213T170000Z
LOCATION:Online Online
SUMMARY:Emlékezés a pályatársakra
DESCRIPTION:https://archive.org/download/europa_1944_1945/palyatarsak.pdf\n
 https://wesley.hu/esemeny/emlekezes-a-palyatarsakra/
URL:https://wesley.hu/esemeny/emlekezes-a-palyatarsakra/
END:VEVENT
END:VCALENDAR