BEGIN:VCALENDAR
VERSION:2.0
PRODID:-//eventon.com NONSGML v1.0//EN
CALSCALE:GREGORIAN
METHOD:PUBLISH
BEGIN:VEVENT
UID:69e605abedf45
DTSTAMP:20260420T105331Z
DTSTART:20201205T130000Z
DTEND:20201205T225000Z
LOCATION:Online Online
SUMMARY:Vajda Mihály: Filozófiáim
DESCRIPTION:http://oktatas.uni.hu/20201205.htm\nhttps://wesley.hu/esemeny/v
 ajda-mihaly-filozofiaim/
URL:https://wesley.hu/esemeny/vajda-mihaly-filozofiaim/
END:VEVENT
END:VCALENDAR