BEGIN:VCALENDAR
VERSION:2.0
PRODID:-//eventon.com NONSGML v1.0//EN
CALSCALE:GREGORIAN
METHOD:PUBLISH
BEGIN:VEVENT
UID:69e61cbcf305f
DTSTAMP:20260420T123156Z
DTSTART:20201205T080000Z
DTEND:20201205T225000Z
LOCATION:https://www.youtube.com/watch?v=xbpzKH0P4QM&feature=youtu.be
SUMMARY:Krausz Tamás: Sztálin
DESCRIPTION:http://oktatas.uni.hu/20201205.htm\nhttps://wesley.hu/esemeny/k
 rausz-tamas-sztalin/var/event_access
URL:https://wesley.hu/esemeny/krausz-tamas-sztalin/var/event_access
END:VEVENT
END:VCALENDAR