BEGIN:VCALENDAR
VERSION:2.0
PRODID:-//eventon.com NONSGML v1.0//EN
CALSCALE:GREGORIAN
METHOD:PUBLISH
BEGIN:VEVENT
UID:69e876a45181b
DTSTAMP:20260422T072004Z
DTSTART:20200704T180000Z
DTEND:20200704T235000Z
LOCATION:1086. Bp. Dankó utca 11. WJLF Kline terem VIII. Dankó u 11.
SUMMARY:Wesley lectures
DESCRIPTION:Tibor Bors BORBÉLY-PECZE The Future of the Labour Market &amp;
  Public Employment Services.  A Global Review http://oktatas.uni.hu/202007
 04.htm https://archive.org/download/conferences_2018/20200704.pdf\nhttps://
 wesley.hu/esemeny/wesley-lectures/
URL:https://wesley.hu/esemeny/wesley-lectures/
END:VEVENT
END:VCALENDAR