BEGIN:VCALENDAR
VERSION:2.0
PRODID:-//eventon.com NONSGML v1.0//EN
CALSCALE:GREGORIAN
METHOD:PUBLISH
BEGIN:VEVENT
UID:69e9f948d121a
DTSTAMP:20260423T104944Z
DTSTART:20200328T090000Z
DTEND:20200328T235000Z
LOCATION:1086. Bp. Dankó utca 11. WJLF Kline terem VIII. Dankó u 11.
SUMMARY:Kamarás István: Paletta előadás
DESCRIPTION:&lt;a href=&#8221;http://oktatas.uni.hu/palettaeloadasok.htm&#8
 221; target=&#8221;_blank&#8221; rel=&#8221;noopener noreferrer&#8221;&gt;P
 rogram részletei&lt;/a&gt;\nhttps://wesley.hu/esemeny/kamaras-istvan-palet
 ta-eloadas/
URL:https://wesley.hu/esemeny/kamaras-istvan-paletta-eloadas/
END:VEVENT
END:VCALENDAR