BEGIN:VCALENDAR
VERSION:2.0
PRODID:-//eventon.com NONSGML v1.0//EN
CALSCALE:GREGORIAN
METHOD:PUBLISH
BEGIN:VEVENT
UID:69e74bb37553b
DTSTAMP:20260421T100435Z
DTSTART:20190929T080900Z
DTEND:20190929T235000Z
LOCATION:1086. Bp. DankÃ³ utca 11. WJLF Kline terem VIII. DankÃ³ u 11.
SUMMARY:A napÃ³leoni FranciaorszÃ¡g â€“ vilÃ¡gnÃ©zet\,  vallÃ¡s\,  egyhÃ¡z a tÃ¶rtÃ©nelemben
DESCRIPTION:(NapÃ³leon szÃ¼letÃ©sÃ©nek kÃ©tszÃ¡zÃ¶tvenedik Ã©vfordulÃ³ja) A
  vilÃ¡gnÃ©zeti\,  vallÃ¡si\,  egyhÃ¡zi pluralizmus a francia forradalmat kÃ
 ¶vetÅ‘en\,  a napÃ³leoni korszak FranciaorszÃ¡gÃ¡ban az Ã¡llam Ã©s egyhÃ¡z 
 viszonyÃ¡nak\,  a lelkiismereti Ã©s vallÃ¡szabadsÃ¡gnak egÃ©szen Ãºj formÃ¡
 jÃ¡t jelentette. Fontos elÅ‘zmÃ©nye lett ez a napjainkig Ã©lÅ‘ francia mode
 llnek\,  s a lelkiismereti Ã©s vallÃ¡sszabadsÃ¡g irÃ¡nt elkÃ¶telezett ember
 ek rokonszenvÃ©nek tÃ¡rgya azÃ³ta[..]\nhttps://wesley.hu/esemeny/a-napoleon
 i-franciaorszag-vilagnezet-vallas-egyhaz-a-tortenelemben-2/
URL:https://wesley.hu/esemeny/a-napoleoni-franciaorszag-vilagnezet-vallas-egyhaz-a-tortenelemben-2/
END:VEVENT
END:VCALENDAR