BEGIN:VCALENDAR
VERSION:2.0
PRODID:-//eventon.com NONSGML v1.0//EN
CALSCALE:GREGORIAN
METHOD:PUBLISH
BEGIN:VEVENT
UID:69e79bd1b6f4b
DTSTAMP:20260421T154625Z
DTSTART:20190927T180000Z
DTEND:20190927T235000Z
LOCATION:1086. Bp. Dankó utca 11. WJLF Kline terem VIII. Dankó u 11.
SUMMARY:Kutatók éjszakája
DESCRIPTION:A Kutatók Éjszakája programjai\nhttps://wesley.hu/esemeny/ku
 tatok-ejszakaja/
URL:https://wesley.hu/esemeny/kutatok-ejszakaja/
END:VEVENT
END:VCALENDAR