BEGIN:VCALENDAR
VERSION:2.0
PRODID:-//eventon.com NONSGML v1.0//EN
CALSCALE:GREGORIAN
METHOD:PUBLISH
BEGIN:VEVENT
UID:69ebacde69cc0
DTSTAMP:20260424T174814Z
DTSTART:20190516T100000Z
DTEND:20190517T190000Z
LOCATION:Wesley János Lelkészképző Főiskola Dankó utca 11
SUMMARY:Konferencia Forrai Judit hetvenedik születésnapjára 2019. 05. 16-17.
DESCRIPTION:http://oktatas.uni.hu/20190516.htm\nhttps://wesley.hu/esemeny/k
 onferencia-forrai-judit-hetvenedik-szuletesnapjara/
URL:https://wesley.hu/esemeny/konferencia-forrai-judit-hetvenedik-szuletesnapjara/
END:VEVENT
END:VCALENDAR