BEGIN:VCALENDAR
VERSION:2.0
PRODID:-//eventon.com NONSGML v1.0//EN
CALSCALE:GREGORIAN
METHOD:PUBLISH
BEGIN:VEVENT
UID:69e7840562175
DTSTAMP:20260421T140453Z
DTSTART:20190331T180000Z
DTEND:20190331T235000Z
LOCATION:Méltóság Napja Templom 1196 Fő utca 110
SUMMARY:Zenés vasárnap este  Kispesten
DESCRIPTION:20. századi klasszikus zene\nhttps://wesley.hu/esemeny/zenes-v
 asarnap-este-kispesten-2/
URL:https://wesley.hu/esemeny/zenes-vasarnap-este-kispesten-2/
END:VEVENT
END:VCALENDAR