BEGIN:VCALENDAR
VERSION:2.0
PRODID:-//eventon.com NONSGML v1.0//EN
CALSCALE:GREGORIAN
METHOD:PUBLISH
BEGIN:VEVENT
UID:69ebbe53292af
DTSTAMP:20260424T190243Z
DTSTART:20190330T081500Z
DTEND:20190330T235000Z
LOCATION:WJLF Kline terem 1086 Budapest\,  DankÃ³ u 11.
SUMMARY:EmbermentÅ‘k az embertelensÃ©gben - Konferencia
DESCRIPTION:EmbermentÅ‘k az embertelensÃ©gben Carl Lutz\,  Dietrich Bonhoef
 fer\,  Giorgio Perlascaâ€“ Konferencia mÃ¡rcius 30. szombat 8.15â€“8.45 Ã‰r
 kezÃ©s\,  regisztrÃ¡ciÃ³ stb. (regisztrÃ¡ciÃ³s pult a nap folyamÃ¡n vÃ©gig 
 lesz!) 8.45 MegnyitÃ³: IvÃ¡nyi GÃ¡bor 9.00â€“9.30 Csepregi AndrÃ¡s: Az egyh
 Ã¡z az ember vÃ©delmÃ©ben? Dietrich Bonhoeffer tÃ¶rvÃ©nyÃ©rtelmezÃ©se 9.30â
 €“10.00 Joel Burnell: Operation 7 â€“ Was Dietrich Bonhoeffer a â€žRighteou
 s[..]\nhttps://wesley.hu/esemeny/embermentok-az-embertelensegben-konferenci
 a/
URL:https://wesley.hu/esemeny/embermentok-az-embertelensegben-konferencia/
END:VEVENT
END:VCALENDAR