BEGIN:VCALENDAR
VERSION:2.0
PRODID:-//eventon.com NONSGML v1.0//EN
CALSCALE:GREGORIAN
METHOD:PUBLISH
BEGIN:VEVENT
UID:69e79a5d89141
DTSTAMP:20260421T154013Z
DTSTART:20190401T170000Z
DTEND:20190401T200000Z
LOCATION:Wesley János Lelkészképző Főiskola Dankó utca 11
SUMMARY:Az iskolai zaklatás - bullying
DESCRIPTION:Az első műhelyünk az iskolai zaklatásról\,  bántalmazásr
 ól\,  megfélemlítésről\,  vagyis a bullyingról szól. A Wesley János
  Főiskola pedagógia szakos hallgatói és oktatói nyitott szakmai műhel
 yt hoztak létre PedLabor néven\,  ami minden hónap első hétfőjén 17 
 és 20 óra között különböző programokat kínál gyakorló pedagógus
 ok és más pedagógiai szakemberek számára. Célunk az[..]\nhttps://wesl
 ey.hu/esemeny/az-iskolai-zaklatas-bullying/
URL:https://wesley.hu/esemeny/az-iskolai-zaklatas-bullying/
END:VEVENT
END:VCALENDAR