BEGIN:VCALENDAR
VERSION:2.0
PRODID:-//eventon.com NONSGML v1.0//EN
CALSCALE:GREGORIAN
METHOD:PUBLISH
BEGIN:VEVENT
UID:69ebda462d146
DTSTAMP:20260424T210158Z
DTSTART:20190222T130000Z
DTEND:20190222T235000Z
LOCATION:1086. Bp. DankÃ³ utca 11. WJLF Kline terem VIII. DankÃ³ u 11.
SUMMARY:VII. BiztonsÃ¡g Ã©s TudomÃ¡ny Konferencia
DESCRIPTION:EzÃºton szeretettel meghÃ­vjuk 2019. februÃ¡r 22-Ã©n aÂ WJLF KÃ
 ¶rnyezettan Szak Ã¡ltal\,  Prof. Dr. Bukovics IstvÃ¡n 70. szÃ¼letÃ©snapjÃ¡r
 a tervezett &#8222;meglepetÃ©s(!)&#8221; konferenciÃ¡nkra (amely a VII. Biz
 tonsÃ¡g Ã©s TudomÃ¡ny Konferencia is egyben). Tisztelt KollegÃ¡k\,  kedves 
 HallgatÃ³k! EzÃºton szeretettel meghÃ­vjuk 2019. februÃ¡r 22-Ã©n aÂ WJLF KÃ
 ¶rnyezettan Szak Ã¡ltal\,  Prof. Dr. Bukovics IstvÃ¡n 70. szÃ¼letÃ©snapjÃ¡r
 a tervezett &#8222;meglepetÃ©s(!)&#8221;[..]\nhttps://wesley.hu/esemeny/vii
 -biztonsag-es-tudomany-konferencia/
URL:https://wesley.hu/esemeny/vii-biztonsag-es-tudomany-konferencia/
END:VEVENT
END:VCALENDAR