BEGIN:VCALENDAR
VERSION:2.0
PRODID:-//eventon.com NONSGML v1.0//EN
CALSCALE:GREGORIAN
METHOD:PUBLISH
BEGIN:VEVENT
UID:69ebf439a95bf
DTSTAMP:20260424T225241Z
DTSTART:20190224T170000Z
DTEND:20190224T235000Z
LOCATION:1086. Bp. DankÃ³ utca 11. WJLF Kline terem VIII. DankÃ³ u 11.
SUMMARY:BeszÃ©lgetÃ©s   Hajdu JÃ¡nossal
DESCRIPTION:2019 02 24 vasÃ¡rnap 17 h \,  WJLF DankÃ³ u 11. Kline terem htt
 p://oktatas.uni.hu/20190224.htm A nemzetkÃ¶zi tÃ¡rsadalomtudomÃ¡nytÃ¶rtÃ©ne
 ti kutatÃ¡s ( https://archive.org/details/ssh_interco_Hungary ) nemcsak pub
 likÃ¡ciÃ³kbÃ³l Ã©s sokelÅ‘adÃ³s konferenciÃ¡kbÃ³l Ã¡ll\,  hanem egy &#8222;
 TÃ¡rsadalomtudÃ³sok hÃ¡rom rendszervÃ¡ltÃ¡s idejÃ©n&#8221; cÃ­mÅ± beszÃ©lge
 tÃ©ssorozatbÃ³l is. BeszÃ©lgetÃ©ssorozatunkban olyan kÃ¶zÃ©leti szerepet vÃ
 ¡llalÃ³ szemÃ©lyisÃ©gekkel beszÃ©lgetÃ¼nkÂ  &#8211; a DankÃ³ utcÃ¡ban\,  a 
 WJLF Kline[..]\nhttps://wesley.hu/esemeny/beszelgetes-hajdu-janossal/
URL:https://wesley.hu/esemeny/beszelgetes-hajdu-janossal/
END:VEVENT
END:VCALENDAR