BEGIN:VCALENDAR
VERSION:2.0
PRODID:-//eventon.com NONSGML v1.0//EN
CALSCALE:GREGORIAN
METHOD:PUBLISH
BEGIN:VEVENT
UID:69e74a0a43dcf
DTSTAMP:20260421T095730Z
DTSTART:20181026T170000Z
DTEND:20181026T235000Z
LOCATION:1086. Bp. Dankó utca 11. WJLF Kline terem VIII. Dankó u 11.
SUMMARY:A „Bátorság az egyházért” 2018-as kitüntetettje
DESCRIPTION:Az Egyházfórum Alapítvány kuratóriuma a Fidentia pro eccle
 sia-emlékérmet 2018-ban Beer Miklós váci megyéspüspöknek ítélte a 
 katolikus egyház zsinati szellemű megújítása érdekében végzett elk
 telezett munkájáért. Manapság hazánkban nem kevés szellemi-lelki er
  és bátorság kell ahhoz\,  hogy egy egyházi vezető a semper reformand
 a elvet belső meggyőződésévé téve vallja és gyakorolja egyházunk z
 sinati[..]\nhttps://wesley.hu/esemeny/a-batorsag-az-egyhazert-2018-as-kitun
 tetettje/
URL:https://wesley.hu/esemeny/a-batorsag-az-egyhazert-2018-as-kituntetettje/
END:VEVENT
END:VCALENDAR