BEGIN:VCALENDAR
VERSION:2.0
PRODID:-//eventon.com NONSGML v1.0//EN
CALSCALE:GREGORIAN
METHOD:PUBLISH
BEGIN:VEVENT
UID:69e6061f792ad
DTSTAMP:20260420T105527Z
DTSTART:20180613T170000Z
DTEND:20180613T235000Z
LOCATION:
SUMMARY:Társadalomtudósok három rendszerváltás idején - beszélgetés a kilencven éves Losonczi Ágnessel
DESCRIPTION:Beszélgetéssorozatunkban olyan közéleti szerepet vállaló 
 társadalomtudósokkal beszélgetünk &#8211; a Dankó utcában\,  a WJLF-e
 n​\,  akik nemcsak elemzői\,  hanem átélői is voltak a magyar demokr
 ciatörténet három nagy fordulatának a pártállam belső átalakulás
 hoz vezetőnek\,  a többpárti demokráciához vezetőnek\,  és az illib
 erális államhoz vezetőnek. E beszélgetések egyben születésnapi kösz
 öntők\,  melyekben 70-90 év szubjektív és[..]\nhttps://wesley.hu/eseme
 ny/tarsadalomtudosok-harom-rendszervaltas-idejen-beszelgetes-a-kilencven-ev
 es-losonczi-agnessel/
URL:https://wesley.hu/esemeny/tarsadalomtudosok-harom-rendszervaltas-idejen-beszelgetes-a-kilencven-eves-losonczi-agnessel/
END:VEVENT
END:VCALENDAR