BEGIN:VCALENDAR
VERSION:2.0
PRODID:-//eventon.com NONSGML v1.0//EN
CALSCALE:GREGORIAN
METHOD:PUBLISH
BEGIN:VEVENT
UID:69e606014f001
DTSTAMP:20260420T105457Z
DTSTART:20180614T183000Z
DTEND:20180614T235000Z
LOCATION:
SUMMARY:Koncert Nagy Imre emlékére
DESCRIPTION:MEGHÍVÓ JÚNIUS 14. – 16. Az idén 60 esztendeje\,  hogy az
  1956-os megtorlások idején\,  1958. június 16-a hajnalán Nagy Imre min
 iszterelnököt\,  Maléter Pál honvédelmi minisztert és Gimes Miklós 
 jságírót kivégezték. E napon emlékezünk meg a Nagy Imre-per másik 
 két (már előbb kivégzett) halálraítéltjéről\,  Losonczy Géza áll
 amminiszterről és Szilágyi József jogászról[..]\nhttps://wesley.hu/es
 emeny/koncert-nagy-imre-emlekere/
URL:https://wesley.hu/esemeny/koncert-nagy-imre-emlekere/
END:VEVENT
END:VCALENDAR